BEGIN:VCALENDAR
VERSION:2.0
PRODID:-//eventon.com NONSGML v1.0//EN
CALSCALE:GREGORIAN
METHOD:PUBLISH
BEGIN:VEVENT
UID:69e903d51edd5
DTSTAMP:20260422T172229Z
DTSTART:20200426T093000Z
DTEND:20200426T101500Z
LOCATION:
SUMMARY:A kismalacok és a farkas
DESCRIPTION:A Kormány 46/2020. (III.16.) Korm. rendelete alapján a MOM Ku
 lturális Központ Nonprofit Kft tagintézményei\,  valamint az üzemeltet
 ésében álló telephelyek\,  mint közművelődési intézmények pillana
 tnyilag látogatási tilalom alatt állnak. Domi bábszínháza elmarad. &#
 8212;&#8212; Klasszikus bábok\,  klasszikus mesék. Domi bábszínházaElm
 arad\nhttps://momkult.hu/events/a-kismalacok-es-a-farkas/
URL:https://momkult.hu/events/a-kismalacok-es-a-farkas/
END:VEVENT
END:VCALENDAR