BEGIN:VCALENDAR
VERSION:2.0
PRODID:-//eventon.com NONSGML v1.0//EN
CALSCALE:GREGORIAN
METHOD:PUBLISH
BEGIN:VEVENT
UID:69e8c81bf2a8d
DTSTAMP:20260422T130739Z
DTSTART:20200904T183000Z
DTEND:20200904T203000Z
LOCATION:
SUMMARY:Zolbert TRIO | Hegyvidéki Smooth Jazz Klub
DESCRIPTION:Az előadás új időpontban\,  2020. 09. 04-én kerül megrend
 ezésre. (eredeti  pótelőadás: 2020. 08. 06.) Tagok: Zolbert &#8211; sz
 oprán-\,  alt-\,  és tenorszaxofon Tóth Marcell &#8211; zongora Nagy Zso
 lt &#8211; ütőhangszerek A program az NKA Hangfoglaló Program támogatá
 sával valósul meg. Új időpont\nhttps://momkult.hu/events/zolbert-trio-h
 egyvideki-smooth-jazz-klub/
URL:https://momkult.hu/events/zolbert-trio-hegyvideki-smooth-jazz-klub/
END:VEVENT
END:VCALENDAR