BEGIN:VCALENDAR
VERSION:2.0
PRODID:-//eventon.com NONSGML v1.0//EN
CALSCALE:GREGORIAN
METHOD:PUBLISH
BEGIN:VEVENT
UID:69e903a100199
DTSTAMP:20260422T172137Z
DTSTART:20200516T180000Z
DTEND:20200516T200000Z
LOCATION:
SUMMARY:Tavaszi KeringÅ‘
DESCRIPTION:A KormÃ¡ny 46/2020. (III.16.) Korm. rendelete alapjÃ¡n a MOM Ku
 lturÃ¡lis KÃ¶zpont Nonprofit Kft tagintÃ©zmÃ©nyei\,  valamint az Ã¼zemeltet
 Ã©sÃ©ben Ã¡llÃ³ telephelyek\,  mint kÃ¶zmÅ±velÅ‘dÃ©si intÃ©zmÃ©nyek pillana
 tnyilag lÃ¡togatÃ¡si tilalom alatt Ã¡llnak. A koncert elmarad\,  a programr
 a vÃ¡ltott Â belÃ©pÅ‘jegy Ã¡ra az alÃ¡bbi honlapon a megfelelÅ‘ Å±rlap kitÃ
 ¶ltÃ©sÃ©t kÃ¶vetÅ‘en visszautalÃ¡sra kerÃ¼l.Â  https://www.jegy.hu/articles
 /905/az-nr1media-kozlemenye &#8212;&#8212; A nemzetkÃ¶zi hÃ­rÅ±[..]\nhttps:
 //momkult.hu/events/tavaszi-keringo/
URL:https://momkult.hu/events/tavaszi-keringo/
END:VEVENT
END:VCALENDAR