BEGIN:VCALENDAR
VERSION:2.0
PRODID:-//eventon.com NONSGML v1.0//EN
CALSCALE:GREGORIAN
METHOD:PUBLISH
BEGIN:VEVENT
UID:69e903b6ec2d9
DTSTAMP:20260422T172158Z
DTSTART:20200614T090000Z
DTEND:20200614T110000Z
LOCATION:
SUMMARY:Alíz Csodaországban
DESCRIPTION:A Kormány 46/2020. (III.16.) Korm. rendelete alapján a MOM Ku
 lturális Központ Nonprofit Kft tagintézményei\,  valamint az üzemeltet
 ésében álló telephelyek\,  mint közművelődési intézmények pillana
 tnyilag látogatási tilalom alatt állnak. Az Alíz Csodaországban c. pro
 dukció az áthelyezett időpontban elmarad\,  a programra váltott  jegye
 ket a vásárlás helyén és módján visszaváltjuk. Amennyiben Ön onlin
 e regisztrált\, [..]\nhttps://momkult.hu/events/aliz-csodaorszagban/
URL:https://momkult.hu/events/aliz-csodaorszagban/
END:VEVENT
END:VCALENDAR