BEGIN:VCALENDAR
VERSION:2.0
PRODID:-//eventon.com NONSGML v1.0//EN
CALSCALE:GREGORIAN
METHOD:PUBLISH
BEGIN:VEVENT
UID:69e916f2b5bf5
DTSTAMP:20260422T184402Z
DTSTART:20200409T170000Z
DTEND:20200409T190000Z
LOCATION:
SUMMARY:Magyar kÃ¶ltÃ©szet napja | Akinek a kedve dalos
DESCRIPTION:A KormÃ¡ny 46/2020. (III.16.) Korm. rendelete alapjÃ¡n a MOM Ku
 lturÃ¡lis KÃ¶zpont Nonprofit Kft tagintÃ©zmÃ©nyei\,  valamint az Ã¼zemeltet
 Ã©sÃ©ben Ã¡llÃ³ telephelyek\,  mint kÃ¶zmÅ±velÅ‘dÃ©si intÃ©zmÃ©nyek pillana
 tnyilag lÃ¡togatÃ¡si tilalom alatt Ã¡llnak. A koncert elmarad\,  aÂ program
 ra vÃ¡ltottÂ  200 Ft-os regisztrÃ¡ciÃ³s dÃ­jat a vÃ¡sÃ¡rlÃ¡s helyÃ©n Ã©s mÃ
 ³djÃ¡n visszavÃ¡ltjuk. Amennyiben Ã–n online regisztrÃ¡lt\,  Ã­gy tovÃ¡bbi 
 teendÅ‘je nincs\, [..]\nhttps://momkult.hu/events/magyar-kolteszet-napja-ak
 inek-a-kedve-dalos/
URL:https://momkult.hu/events/magyar-kolteszet-napja-akinek-a-kedve-dalos/
END:VEVENT
END:VCALENDAR