BEGIN:VCALENDAR
VERSION:2.0
PRODID:-//eventon.com NONSGML v1.0//EN
CALSCALE:GREGORIAN
METHOD:PUBLISH
BEGIN:VEVENT
UID:69e914f32d50f
DTSTAMP:20260422T183531Z
DTSTART:20200405T160000Z
DTEND:20200405T180000Z
LOCATION:
SUMMARY:Növendéktől a művészig | Solti György Zeneiskola koncertje
DESCRIPTION:A Kormány 46/2020. (III.16.) Korm. rendelete alapján a MOM Ku
 lturális Központ Nonprofit Kft tagintézményei\,  valamint az üzemeltet
 ésében álló telephelyek\,  mint közművelődési intézmények pillana
 tnyilag látogatási tilalom alatt állnak. A Solti György Zeneiskola konc
 ertje elmarad. A MOM Kulturális Központ saját szervezésű\,  elmaradt p
 rogramjai esetében visszaváltja a rendezvény jegyeinek árát. Amennyibe
 n online vásárolták[..]\nhttps://momkult.hu/events/novendektol-a-muveszi
 g-solti-gyorgy-zeneiskola-koncertje/
URL:https://momkult.hu/events/novendektol-a-muveszig-solti-gyorgy-zeneiskola-koncertje/
END:VEVENT
END:VCALENDAR