BEGIN:VCALENDAR
VERSION:2.0
PRODID:-//eventon.com NONSGML v1.0//EN
CALSCALE:GREGORIAN
METHOD:PUBLISH
BEGIN:VEVENT
UID:69e89e5cd751e
DTSTAMP:20260422T100932Z
DTSTART:20201009T180000Z
DTEND:20201009T200000Z
LOCATION:
SUMMARY:Férfiszemmel
DESCRIPTION:A MOMkult a Férfiszemmel c. programnak terembérleti konstrukc
 ióban helyszínt biztosít\,  a jegyekkel kapcsolatban intézkedési joga 
 nincs. Az alábbiakban közöljük a szervező KENmedia Kft. közleményét
 : A MOM Kultba október 9-re meghiredett Férfiszemmel előadás betegség 
 miatt elmarad. Az előadást nem pótoljuk\,  a jegyek visszaválthatóak a
  megváltás helyén. További információ email címünkön kérhető:[..
 ]\nhttps://momkult.hu/events/ferfiszemmel-3/
URL:https://momkult.hu/events/ferfiszemmel-3/
END:VEVENT
END:VCALENDAR