BEGIN:VCALENDAR
VERSION:2.0
PRODID:-//eventon.com NONSGML v1.0//EN
CALSCALE:GREGORIAN
METHOD:PUBLISH
BEGIN:VEVENT
UID:69e915318aaff
DTSTAMP:20260422T183633Z
DTSTART:20200407T180000Z
DTEND:20200407T191500Z
LOCATION:
SUMMARY:LyukasÃ³ra klub
DESCRIPTION:A KormÃ¡ny 46/2020. (III.16.) Korm. rendelete alapjÃ¡n a MOM Ku
 lturÃ¡lis KÃ¶zpont Nonprofit Kft tagintÃ©zmÃ©nyei\,  valamint az Ã¼zemeltet
 Ã©sÃ©ben Ã¡llÃ³ telephelyek\,  mint kÃ¶zmÅ±velÅ‘dÃ©si intÃ©zmÃ©nyek pillana
 tnyilag lÃ¡togatÃ¡si tilalom alatt Ã¡llnak. A LyukasÃ³ra klub elmarad. &#82
 12;&#8211; moderÃ¡tor: VÃ¡rady SzabolcsÂ Kossuth-dÃ­jas kÃ¶ltÅ‘\,  mÅ±fordÃ
 ­tÃ³\,  szerkesztÅ‘ kÃ¶zremÅ±kÃ¶dÅ‘k: Lator LÃ¡szlÃ³Â a Nemzet MÅ±vÃ©sze\, 
  Kossuth- dÃ­jas kÃ¶ltÅ‘\,  mÅ±fordÃ­tÃ³\,  esszÃ©ista MolnÃ¡r Krisztina[..
 ]\nhttps://momkult.hu/events/lyukasora-klub-0407/
URL:https://momkult.hu/events/lyukasora-klub-0407/
END:VEVENT
END:VCALENDAR