BEGIN:VCALENDAR
VERSION:2.0
PRODID:-//eventon.com NONSGML v1.0//EN
CALSCALE:GREGORIAN
METHOD:PUBLISH
BEGIN:VEVENT
UID:69e9249344753
DTSTAMP:20260422T194211Z
DTSTART:20200311T180000Z
DTEND:20200311T193000Z
LOCATION:
SUMMARY:Párhuzamos műfajok | Ady arca és Ady versei - szavak és képek
DESCRIPTION:Kép: Leszkovszky György illusztrációja Ady Endre verséhez\
 ,  1922 Előadók: Széchenyi Ágnes\,  irodalomtörténész\,  az MTA főm
 unkatársa Bellák Gábor\,  művészettörténész\,  a Magyar Nemzeti Gal
 éria főmuzeológusa Elmarad\nhttps://momkult.hu/events/parhuzamos-mufajok
 -ady-endre/
URL:https://momkult.hu/events/parhuzamos-mufajok-ady-endre/
END:VEVENT
END:VCALENDAR