BEGIN:VCALENDAR
VERSION:2.0
PRODID:-//eventon.com NONSGML v1.0//EN
CALSCALE:GREGORIAN
METHOD:PUBLISH
BEGIN:VEVENT
UID:69e85500a3199
DTSTAMP:20260422T045632Z
DTSTART:20210502T170000Z
DTEND:20210502T183000Z
LOCATION:
SUMMARY:Dirty Swing
DESCRIPTION:Az előadás új időpontban\,  2021. 09. 08-án kerül megrend
 ezésre. (eredeti időpont: 2021. 05. 02.\,  pótelőadás: 2021.09.08.) A 
 koncert új időpontban kerül megtartásra\,  az új időpontra érvényes
 ek lesznek a már megvásárolt jegyek. Amennyiben az új időpont a vásá
 rló számára nem megfelelő\,  úgy azt szíveskedjen jelezni\,  és vá
 laszban megadjuk az esetleges jegyár-visszatérítéssel kapcsolatos[..]\n
 https://momkult.hu/events/dirty-swing/
URL:https://momkult.hu/events/dirty-swing/
END:VEVENT
END:VCALENDAR