BEGIN:VCALENDAR
VERSION:2.0
PRODID:-//eventon.com NONSGML v1.0//EN
CALSCALE:GREGORIAN
METHOD:PUBLISH
BEGIN:VEVENT
UID:69e8911ac1cfd
DTSTAMP:20260422T091258Z
DTSTART:20201104T190000Z
DTEND:20201104T203000Z
LOCATION:
SUMMARY:Varidance | Kármen
DESCRIPTION:Az előadás új időpontban\,  2020. 11. 04-én kerül megrend
 ezésre. (eredeti időpont: 2020. 05. 22.\,  pótelőadás: 2020. 11.04.) V
 ári Bertalan társulata 2011 márciusa óta működik\,  a Varidance a sok
 színű magyar néptánchagyomány és -kultúra elemeiből merít ihletet\
 ,  melyet különböző táncstílusokkal – sztepp\,  hip-hop\,  kortárs
  – ötvöz és egy modern\,  egyedi produkcióvá alakít.[..]\nhttps://m
 omkult.hu/events/varidance-karmen-0522/
URL:https://momkult.hu/events/varidance-karmen-0522/
END:VEVENT
END:VCALENDAR