BEGIN:VCALENDAR
VERSION:2.0
PRODID:-//eventon.com NONSGML v1.0//EN
CALSCALE:GREGORIAN
METHOD:PUBLISH
BEGIN:VEVENT
UID:69e8b1dacce8c
DTSTAMP:20260422T113242Z
DTSTART:20200920T170000Z
DTEND:20200920T183000Z
LOCATION:
SUMMARY:Varidance | Kármen
DESCRIPTION:Az előadás új időpontban\,  2020. 09. 20-án kerül megrend
 ezésre. (eredeti időpont: 2020. 03. 14.\,  pótelőadás: 2020. 09. 20.) 
 Vári Bertalan társulata 2011 márciusa óta működik\,  a Varidance a so
 kszínű magyar néptánchagyomány és -kultúra elemeiből merít ihletet
 \,  melyet különböző táncstílusokkal – sztepp\,  hip-hop\,  kortár
 s – ötvöz és egy modern\,  egyedi produkcióvá[..]\nhttps://momkult.h
 u/events/varidance-karmen/
URL:https://momkult.hu/events/varidance-karmen/
END:VEVENT
END:VCALENDAR