BEGIN:VCALENDAR
VERSION:2.0
PRODID:-//eventon.com NONSGML v1.0//EN
CALSCALE:GREGORIAN
METHOD:PUBLISH
BEGIN:VEVENT
UID:69e89d6588be7
DTSTAMP:20260422T100525Z
DTSTART:20201004T180000Z
DTEND:20201004T200000Z
LOCATION:
SUMMARY:Trio Midnight | 30 év - születésnapi koncert
DESCRIPTION:Az előadás új időpontban\,  2020. 10. 04-én kerül megrend
 ezésre. (eredeti időpont: 2020. 04. 26.\,  pótelőadás: 2020. 10.04.) A
  Trio Midnight fennállásának 30.évét egy születésnapi koncerttel ün
 nepli a MOMkult-ban. Tagok: Oláh Kálmán &#8211; zongora Balázs Elemér 
 &#8211; dobok Egri János &#8211; nagybőgő Új időpont\nhttps://momkult.
 hu/events/trio-midnight-30-ev-szuletesnapi-koncert/
URL:https://momkult.hu/events/trio-midnight-30-ev-szuletesnapi-koncert/
END:VEVENT
END:VCALENDAR