BEGIN:VCALENDAR
VERSION:2.0
PRODID:-//eventon.com NONSGML v1.0//EN
CALSCALE:GREGORIAN
METHOD:PUBLISH
BEGIN:VEVENT
UID:69e903fe6768e
DTSTAMP:20260422T172310Z
DTSTART:20200428T180000Z
DTEND:20200428T193000Z
LOCATION:
SUMMARY:A Minor Inconvenience | A Stand-Up Musical Comedy Show by Adam BÅ‘sze
DESCRIPTION:Elmaradâ€“ Cancelled A belÃ©pÅ‘jegy Ã¡rÃ¡t a vÃ¡sÃ¡rlÃ¡s helyÃ©
 n Ã©s mÃ³djÃ¡n visszatÃ©rÃ­tjÃ¼k. Amennyiben online vÃ¡sÃ¡rolt jegyet\,  Ãº
 gy Ã–nnek tovÃ¡bbi teendÅ‘je nincs\,  a vÃ©telÃ¡r automatikusan visszautalÃ
 ¡sra kerÃ¼l. A MOMkultban vÃ¡sÃ¡rolt jegyeket 2020. jÃºnius 1-tÅ‘l\,  illet
 ve a jelenleg hatÃ¡lyos veszÃ©lyhelyzet visszavonÃ¡sÃ¡tÃ³l kezdve a pÃ©nztÃ
 ¡rban visszavÃ¡ltjuk. The ticket price will be refunded at the[..]\nhttps:/
 /momkult.hu/events/a-minor-inconvenience-a-stand-up-musical-comedy-show-by-
 adam-bosze/
URL:https://momkult.hu/events/a-minor-inconvenience-a-stand-up-musical-comedy-show-by-adam-bosze/
END:VEVENT
END:VCALENDAR