BEGIN:VCALENDAR
VERSION:2.0
PRODID:-//eventon.com NONSGML v1.0//EN
CALSCALE:GREGORIAN
METHOD:PUBLISH
BEGIN:VEVENT
UID:69e8da672cb05
DTSTAMP:20260422T142543Z
DTSTART:20200829T120000Z
DTEND:20200829T190000Z
LOCATION:
SUMMARY:II. Egészséges Szépség Őr Nap | Fókuszban az ifjúságvédelem
DESCRIPTION:A digitális világ veszélyeiről akkor szokás beszélni\,  h
 a a gyerekeket idegenek próbálják megkörnyékezni vagy rávenni tiltott
  dolgokra interneten keresztül\,  de nem ez az egyetlen rájuk leselkedő 
 veszély. A fiatalok által a közösségi médián követett hírességek 
 hatalmas nyomás alá helyezik őket. A plasztikai sebészek\,  esztétikai
  orvosok egyre fiatalabb korú páciensekkel találkoznak[..]\nhttps://momk
 ult.hu/events/ii-egeszseges-szepseg-or-nap-fokuszban-az-ifjusagvedelem/
URL:https://momkult.hu/events/ii-egeszseges-szepseg-or-nap-fokuszban-az-ifjusagvedelem/
END:VEVENT
END:VCALENDAR