BEGIN:VCALENDAR
VERSION:2.0
PRODID:-//eventon.com NONSGML v1.0//EN
CALSCALE:GREGORIAN
METHOD:PUBLISH
BEGIN:VEVENT
UID:69e924c1ad4dc
DTSTAMP:20260422T194257Z
DTSTART:20200310T190000Z
DTEND:20200310T201500Z
LOCATION:
SUMMARY:Lyukasóra klub
DESCRIPTION:Moderátor: Kiss Judit Ágnes József Attila- díjas költő\, 
  próza író\,  irodalom és drámatanár Közreműködők: Lator László
 \,  a Nemzet Művésze\,  Kossuth- díjas költő\,  műfordító\,  esszé
 ista Várady Szabolcs Kossuth-díjas költő\,  műfordító\,  szerkesztő
  Ferencz Győző József Attila-díjas költő\,  irodalomtörténész\,  m
 űfordító Vörös István József Attila-díjas költő\,  prózaíró\,
   irodalomtörténész\,  esszéista\nhttps://momkult.hu/events/lyukasora-k
 lub-13/
URL:https://momkult.hu/events/lyukasora-klub-13/
END:VEVENT
END:VCALENDAR