BEGIN:VCALENDAR
VERSION:2.0
PRODID:-//eventon.com NONSGML v1.0//EN
CALSCALE:GREGORIAN
METHOD:PUBLISH
BEGIN:VEVENT
UID:69e903dad0c91
DTSTAMP:20260422T172234Z
DTSTART:20200510T100000Z
DTEND:20200510T110000Z
LOCATION:
SUMMARY:Kőhalmi Ferenc vagyok - Fütyülök a világgal
DESCRIPTION:A Kormány 46/2020. (III.16.) Korm. rendelete alapján a MOM Ku
 lturális Központ Nonprofit Kft tagintézményei\,  valamint az üzemeltet
 ésében álló telephelyek\,  mint közművelődési intézmények pillana
 tnyilag látogatási tilalom alatt állnak. A belépőjegy árát a vásár
 lás helyén és módján visszatérítjük. Amennyiben online vásárolt j
 egyet\,  úgy Önnek további teendője nincs\,  a vételár automatikusan 
 visszautalásra kerül.[..]\nhttps://momkult.hu/events/kohalmi-ferenc-vagyo
 k-futyulok-a-vilaggal-0510/
URL:https://momkult.hu/events/kohalmi-ferenc-vagyok-futyulok-a-vilaggal-0510/
END:VEVENT
END:VCALENDAR