BEGIN:VCALENDAR
VERSION:2.0
PRODID:-//eventon.com NONSGML v1.0//EN
CALSCALE:GREGORIAN
METHOD:PUBLISH
BEGIN:VEVENT
UID:69e903b6ec2d9
DTSTAMP:20260422T172158Z
DTSTART:20200425T100000Z
DTEND:20200425T110000Z
LOCATION:
SUMMARY:Kőhalmi Ferenc vagyok - Fütyülök a világgal
DESCRIPTION:A Kormány 46/2020. (III.16.) Korm. rendelete alapján a MOM Ku
 lturális Központ Nonprofit Kft tagintézményei\,  valamint az üzemeltet
 ésében álló telephelyek\,  mint közművelődési intézmények pillana
 tnyilag látogatási tilalom alatt állnak. Kőhalmi Ferenc Fütyülök a v
 ilággal c. koncertje elmarad\,  a programra váltott  jegyeket a vásár
 lás helyén és módján visszaváltjuk. Amennyiben Ön online vásárolta
  meg jegyét\, [..]\nhttps://momkult.hu/events/kohalmi-ferenc-vagyok-futyul
 ok-a-vilaggal-0425/
URL:https://momkult.hu/events/kohalmi-ferenc-vagyok-futyulok-a-vilaggal-0425/
END:VEVENT
END:VCALENDAR