BEGIN:VCALENDAR
VERSION:2.0
PRODID:-//eventon.com NONSGML v1.0//EN
CALSCALE:GREGORIAN
METHOD:PUBLISH
BEGIN:VEVENT
UID:69e91526df5fd
DTSTAMP:20260422T183622Z
DTSTART:20200328T150000Z
DTEND:20200328T150000Z
LOCATION:
SUMMARY:Kőhalmi Ferenc vagyok - Fütyülök a világgal
DESCRIPTION:A Kormány 46/2020. (III.16.) Korm. rendelete alapján a MOM Ku
 lturális Központ Nonprofit Kft tagintézményei\,  valamint az üzemeltet
 ésében álló telephelyek\,  mint közművelődési intézmények pillana
 tnyilag látogatási tilalom alatt állnak. Kőhalmi Ferenc óvodapedagógu
 s\,  bűvész és műsorvezető gyermeklemezt készített saját dalaival\,
   valamint Nemes Nagy Ágnes és Nagy Bandó András verseivel. A lemez dal
 ai vidám[..]\nhttps://momkult.hu/events/kohalmi-ferenc-vagyok-futyulok-a-v
 ilaggal-0328/
URL:https://momkult.hu/events/kohalmi-ferenc-vagyok-futyulok-a-vilaggal-0328/
END:VEVENT
END:VCALENDAR