BEGIN:VCALENDAR
VERSION:2.0
PRODID:-//eventon.com NONSGML v1.0//EN
CALSCALE:GREGORIAN
METHOD:PUBLISH
BEGIN:VEVENT
UID:69e9389484899
DTSTAMP:20260422T210732Z
DTSTART:20200229T150000Z
DTEND:20200229T150000Z
LOCATION:
SUMMARY:Kőhalmi Ferenc vagyok - Fütyülök a világgal
DESCRIPTION:Kőhalmi Ferenc óvodapedagógus\,  bűvész és műsorvezető 
 gyermeklemezt készített saját dalaival\,  valamint Nemes Nagy Ágnes és
  Nagy Bandó András verseivel. A lemez dalai vidám közvetlen stílusa e
 gy különleges világba varázsolja a gyermekeket és felnőtteket egyará
 nt. A koncerten gitár és ütőhangszerek kísérnek. Gyerekkoncert\nhttps
 ://momkult.hu/events/kohalmi-ferenc-vagyok-futyulok-a-vilaggal/
URL:https://momkult.hu/events/kohalmi-ferenc-vagyok-futyulok-a-vilaggal/
END:VEVENT
END:VCALENDAR