BEGIN:VCALENDAR
VERSION:2.0
PRODID:-//eventon.com NONSGML v1.0//EN
CALSCALE:GREGORIAN
METHOD:PUBLISH
BEGIN:VEVENT
UID:69e9153b9de95
DTSTAMP:20260422T183643Z
DTSTART:20200414T163000Z
DTEND:20200414T183000Z
LOCATION:
SUMMARY:POKET 2. szÃ¼letÃ©snap
DESCRIPTION:A KormÃ¡ny 46/2020. (III.16.) Korm. rendelete alapjÃ¡n a MOM Ku
 lturÃ¡lis KÃ¶zpont Nonprofit Kft tagintÃ©zmÃ©nyei\,  valamint az Ã¼zemeltet
 Ã©sÃ©ben Ã¡llÃ³ telephelyek\,  mint kÃ¶zmÅ±velÅ‘dÃ©si intÃ©zmÃ©nyek pillana
 tnyilag lÃ¡togatÃ¡si tilalom alatt Ã¡llnak. Tisztelt KÃ¶zÃ¶nsÃ©gÃ¼nk! SajnÃ
 ¡lattal Ã©rtesÃ­tjÃ¼k Ã–nÃ¶ket\,  hogy hiÃ¡ba prÃ³bÃ¡ltunk megfelelÅ‘ kÃ©sÅ
 ‘bbi idÅ‘pontot talÃ¡lni az Ã¡prilis 14-i POKETÂ 2. szÃ¼letÃ©snapi programj
 Ã¡ra\,  de a nagyszÃ¡mÃº fellÃ©pÅ‘ mÅ±vÃ©szek[..]\nhttps://momkult.hu/event
 s/poket-2-szuletesnap-du/
URL:https://momkult.hu/events/poket-2-szuletesnap-du/
END:VEVENT
END:VCALENDAR