BEGIN:VCALENDAR
VERSION:2.0
PRODID:-//eventon.com NONSGML v1.0//EN
CALSCALE:GREGORIAN
METHOD:PUBLISH
BEGIN:VEVENT
UID:69e903723c685
DTSTAMP:20260422T172050Z
DTSTART:20200427T163000Z
DTEND:20200427T183000Z
LOCATION:
SUMMARY:Keresztes Ildikó | Jótékonysági koncert
DESCRIPTION:A Kormány 46/2020. (III.16.) Korm. rendelete alapján a MOM Ku
 lturális Központ Nonprofit Kft tagintézményei\,  valamint az üzemeltet
 ésében álló telephelyek\,  mint közművelődési intézmények pillana
 tnyilag látogatási tilalom alatt állnak. Keresztes Ildikó jótékonysá
 gi koncertje elmarad\,  a programra váltott  jegyeket a vásárlás hely
 én és módján visszaváltjuk. Amennyiben Ön online vásárolta meg jegy
 ét\,  további teendője nincs\, [..]\nhttps://momkult.hu/events/keresztes
 -ildiko-jotekonysagi-koncert/
URL:https://momkult.hu/events/keresztes-ildiko-jotekonysagi-koncert/
END:VEVENT
END:VCALENDAR