BEGIN:VCALENDAR
VERSION:2.0
PRODID:-//eventon.com NONSGML v1.0//EN
CALSCALE:GREGORIAN
METHOD:PUBLISH
BEGIN:VEVENT
UID:69e903daa867e
DTSTAMP:20260422T172234Z
DTSTART:20200601T180000Z
DTEND:20200601T210000Z
LOCATION:
SUMMARY:HegedÅ±s a hÃ¡ztetÅ‘n | Beer-Sheva SzÃ­nhÃ¡z vendÃ©gjÃ¡tÃ©ka
DESCRIPTION:ELMARAD! Tisztelt LÃ¡togatÃ³ink! A KormÃ¡ny 46/2020. (III.16.) 
 Korm. rendelete alapjÃ¡n a MOM KulturÃ¡lis KÃ¶zpont Nonprofit Kft tagintÃ©z
 mÃ©nyei\,  valamint az Ã¼zemeltetÃ©sÃ©ben Ã¡llÃ³ telephelyek\,  mint kÃ¶zmÅ
 ±velÅ‘dÃ©si intÃ©zmÃ©nyek pillanatnyilag lÃ¡togatÃ¡si tilalom alatt Ã¡llnak
 . A MOMkult a ZsidÃ³ MÅ±vÃ©szeti Napok programsorozatnaknak terembÃ©rleti k
 onstrukciÃ³ban helyszÃ­nt biztosÃ­t\,  a jegyekkel kapcsolatban intÃ©zkedÃ©
 si joga nincs. Az alÃ¡bbiakban kÃ¶zÃ¶ljÃ¼kÂ Dr.[..]\nhttps://momkult.hu/eve
 nts/hegedus-a-hazteton-beer-sheva-szinhaz-vendegjateka/
URL:https://momkult.hu/events/hegedus-a-hazteton-beer-sheva-szinhaz-vendegjateka/
END:VEVENT
END:VCALENDAR