BEGIN:VCALENDAR
VERSION:2.0
PRODID:-//eventon.com NONSGML v1.0//EN
CALSCALE:GREGORIAN
METHOD:PUBLISH
BEGIN:VEVENT
UID:69e91545acef6
DTSTAMP:20260422T183653Z
DTSTART:20200326T103000Z
DTEND:20200326T111500Z
LOCATION:
SUMMARY:Babakoncert
DESCRIPTION:A Kormány 46/2020. (III.16.) Korm. rendelete alapján a MOM Ku
 lturális Központ Nonprofit Kft tagintézményei\,  valamint az üzemeltet
 ésében álló telephelyek\,  mint közművelődési intézmények pillana
 tnyilag látogatási tilalom alatt állnak. A gyermekek zenei fejlesztése 
 nemcsak zenei tehetségük kibontakoztatását szolgálja\,  hanem a két a
 gyfélteke harmonikus fejlődését is\,  ami által érzékennyé\,  kreat
 ívvá\,  kitartóvá\,  fegyelmezetté\,  intelligensebbekké[..]\nhttps:/
 /momkult.hu/events/babakoncert-16/
URL:https://momkult.hu/events/babakoncert-16/
END:VEVENT
END:VCALENDAR