BEGIN:VCALENDAR
VERSION:2.0
PRODID:-//eventon.com NONSGML v1.0//EN
CALSCALE:GREGORIAN
METHOD:PUBLISH
BEGIN:VEVENT
UID:69e8dde645386
DTSTAMP:20260422T144038Z
DTSTART:20200827T183000Z
DTEND:20200827T203000Z
LOCATION:
SUMMARY:Gáspár Szilvi Jazz Band | Hegyvidéki Smooth Jazz Klub
DESCRIPTION:Az előadás új időpontban\,  2020. 08. 27-én kerül megrend
 ezésre. (eredeti időpont: 2020. 03. 20.\,  pótelőadás: 2020. 07.10.) A
  2020. március 20-i előadásra váltott jegyek érvényesek az új\,  aug
 usztus 27-i időpontra. Amennyiben a pótidőpont a vásárló számára ne
 m megfelelő\,  úgy azt szíveskedjen jelezni a program@momkult.hu e-mailc
 ímen\,  és válaszban megadjuk az esetleges[..]\nhttps://momkult.hu/event
 s/gaspar-szilvi-jazz-band-hegyvideki-smooth-jazz-klub/
URL:https://momkult.hu/events/gaspar-szilvi-jazz-band-hegyvideki-smooth-jazz-klub/
END:VEVENT
END:VCALENDAR