BEGIN:VCALENDAR
VERSION:2.0
PRODID:-//eventon.com NONSGML v1.0//EN
CALSCALE:GREGORIAN
METHOD:PUBLISH
BEGIN:VEVENT
UID:69e938f0d24c9
DTSTAMP:20260422T210904Z
DTSTART:20200302
DTEND:20200303
LOCATION:
SUMMARY:Wisdom within – tanulságok Afrikából
DESCRIPTION:Romics Kati fotográfus\,  egy humanitárius szervezet munkatá
 rsaként évek óta Afrika és Dél-Amerika országaiban él és dolgozik. 
 Célja a vizuális történetelbeszélés: fotókon keresztül érzékeltet
 ni térségek\,  népcsoportok\,  kultúrák szépségeit\,  a bennük rejl
 ő erőt és értékeket. A „Wisdom within – tanulságok Afrikából”
  fotókiállítás képei olyan történetekbe engednek betekintést\,  ame
 lyekben a kontinens hagyományai\,  ősi[..]\nhttps://momkult.hu/events/wis
 dom-within-tanulsagok-afrikabol/
URL:https://momkult.hu/events/wisdom-within-tanulsagok-afrikabol/
END:VEVENT
END:VCALENDAR