BEGIN:VCALENDAR
VERSION:2.0
PRODID:-//eventon.com NONSGML v1.0//EN
CALSCALE:GREGORIAN
METHOD:PUBLISH
BEGIN:VEVENT
UID:69e9391083484
DTSTAMP:20260422T210936Z
DTSTART:20200304T183000Z
DTEND:20200304T203000Z
LOCATION:
SUMMARY:SzÃ¼letÃ©snapi Hello\,  WMN!
DESCRIPTION:Ã–tÃ©ves a WMN magazin. Ennek alkalmÃ¡bÃ³l egy kÃ¼lÃ¶nleges bes
 zÃ©lgetÃ©ssel kÃ©szÃ¼lnek a meghÃ­vott vendÃ©gek\,  a Hello\,  WMN!-esten o
 lyan alapÃ©rtÃ©kekrÅ‘l lesz szÃ³\,  mint a fÃ¼ggetlensÃ©g\,  a szabadsÃ¡g Ã
 ©s az egyÃ©nisÃ©g\,  a hatÃ¡raink\,  a toleranciÃ¡nk Ã©s a bÃ¡torsÃ¡gunk MÅ
 ±sorvezetÅ‘k: TÃ³th Kriszta Ã©s GyÃ¡rfÃ¡s Dorka\,  a WMN alkotÃ³i BeszÃ©lge
 tÅ‘tÃ¡rsak: Dr. AlmÃ¡si Kitti klinikai szakpszicholÃ³gus[..]\nhttps://momku
 lt.hu/events/szuletesnapi-hello-wmn/
URL:https://momkult.hu/events/szuletesnapi-hello-wmn/
END:VEVENT
END:VCALENDAR