BEGIN:VCALENDAR
VERSION:2.0
PRODID:-//eventon.com NONSGML v1.0//EN
CALSCALE:GREGORIAN
METHOD:PUBLISH
BEGIN:VEVENT
UID:69e8b39b01e29
DTSTAMP:20260422T114011Z
DTSTART:20200921T190000Z
DTEND:20200921T210000Z
LOCATION:
SUMMARY:Budapest Bár koncert
DESCRIPTION:Az előadás új időpontban\,  2020. 09. 21-én kerül megrend
 ezésre. (eredeti időpont: 2020. 03. 15.\,  pótelőadás: 2020. 09.21.) A
  2020. március 15-i előadásra váltott jegyek érvényesek az új\,  sze
 ptember 21-i időpontra. Amennyiben az új időpont Önnek nem megfelelő\,
   online vásárolt jegyek esetében az alábbi linken keresztül (https://
 www.jegy.hu/onlinejegyvisszavaltas/) vissza tudja váltani a[..]\nhttps://m
 omkult.hu/events/budapest-bar-koncert-2/
URL:https://momkult.hu/events/budapest-bar-koncert-2/
END:VEVENT
END:VCALENDAR