BEGIN:VCALENDAR
VERSION:2.0
PRODID:-//eventon.com NONSGML v1.0//EN
CALSCALE:GREGORIAN
METHOD:PUBLISH
BEGIN:VEVENT
UID:69e912913eeed
DTSTAMP:20260422T182521Z
DTSTART:20200417T183000Z
DTEND:20200417T203000Z
LOCATION:
SUMMARY:DART Premier
DESCRIPTION:A Kormány 46/2020. (III.16.) Korm. rendelete alapján a MOM Ku
 lturális Központ Nonprofit Kft tagintézményei\,  valamint az üzemeltet
 ésében álló telephelyek\,  mint közművelődési intézmények pillana
 tnyilag látogatási tilalom alatt állnak. Az előadás elmarad\,  a progr
 amra váltott  belépőjegy árát  a vásárlás helyén és módján vi
 sszaváltjuk. Amennyiben Ön online regisztrált\,  így további teendője
  nincs\,  a[..]\nhttps://momkult.hu/events/dart-premier/
URL:https://momkult.hu/events/dart-premier/
END:VEVENT
END:VCALENDAR