BEGIN:VCALENDAR
VERSION:2.0
PRODID:-//eventon.com NONSGML v1.0//EN
CALSCALE:GREGORIAN
METHOD:PUBLISH
BEGIN:VEVENT
UID:69e9370c2b72d
DTSTAMP:20260422T210100Z
DTSTART:20200228T190000Z
DTEND:20200228T210000Z
LOCATION:
SUMMARY:Dr. Jazz Band
DESCRIPTION:Hegyvidéki Kulturális Szalon\,  Tamási Áron terem 1124 Buda
 pest\,  Törpe u. 2. “Az együttes Jazzpress néven\,  16 éve alakult. A
  tagok véletlenszerűen találtak egymásra\,  a jazz szeretete hozott ös
 sze minket. Kezdettől fogva instrumentális zenét játszottunk\,  bár n
 hány koncerten énekesnővel kiegészülve is felléptünk. Megalakulásu
 nk után nem sokkal jelentkeztünk egy jazz tehetségkutató versenyre\, [.
 .]\nhttps://momkult.hu/events/dr-jazz-band/
URL:https://momkult.hu/events/dr-jazz-band/
END:VEVENT
END:VCALENDAR