BEGIN:VCALENDAR
VERSION:2.0
PRODID:-//eventon.com NONSGML v1.0//EN
CALSCALE:GREGORIAN
METHOD:PUBLISH
BEGIN:VEVENT
UID:69e890bc746a3
DTSTAMP:20260422T091124Z
DTSTART:20201105T180000Z
DTEND:20201105T193000Z
LOCATION:
SUMMARY:CsÃ¡nyi SÃ¡ndor szÃ­nhÃ¡zi estje | Hogyan Ã©rtsÃ¼k fÃ©lre a nÅ‘ket?
DESCRIPTION:Tisztelt VendÃ©geink\,  A Mom KulturÃ¡lis KÃ¶zpontban 2020 nove
 mber 5-re meghirdetett CsÃ¡nyi SÃ¡ndor: Hogyan Ã©rtsÃ¼k fÃ©lre a nÅ‘ket? cÃ
 ­mÅ± Ã¶nÃ¡llÃ³ estje a jÃ¡rvÃ¡nyÃ¼gyi helyzet miatt egy kÃ©sÅ‘bbi idÅ‘pontb
 an kerÃ¼l megrendezÃ©sre. Az Ãºj idÅ‘pontra Ã©rvÃ©nyesek a mÃ¡r megvÃ¡ltott
  jegyek\,  a pÃ³telÅ‘adÃ¡s dÃ¡tumÃ¡rÃ³l a szervezÅ‘k hamarosan mindenkit Ã©
 rtesÃ­tenek. Jegyekkel kapcsolatos minden tovÃ¡bbi informÃ¡ciÃ³t[..]\nhttps
 ://momkult.hu/events/csanyi-sandor-szinhazi-estje-hogyan-ertsuk-felre-a-nok
 et-1105/
URL:https://momkult.hu/events/csanyi-sandor-szinhazi-estje-hogyan-ertsuk-felre-a-noket-1105/
END:VEVENT
END:VCALENDAR