BEGIN:VCALENDAR
VERSION:2.0
PRODID:-//eventon.com NONSGML v1.0//EN
CALSCALE:GREGORIAN
METHOD:PUBLISH
BEGIN:VEVENT
UID:69e89bb89472b
DTSTAMP:20260422T095816Z
DTSTART:20201015T180000Z
DTEND:20201015T193000Z
LOCATION:
SUMMARY:Csányi Sándor színházi estje | Hogyan értsük félre a nőket?
DESCRIPTION:Mi a teendő\,  ha az ember a szülőszoba ajtajában döbben r
 á\,  hogy nemcsak a gyerekekkel nem tud bánni\,  de a nőkkel sem? Miért
  a mi hibánk\,  ha Ők rosszat álmodnak? Miért baj\,  ha őszintén vál
 aszolunk arra a kérdésre\,  hogy fogytam-e? Érdemes-e a friss jogosítv
 nnyal vezető feleségünknek tanácsokat adni vezetés közben?[..]\nhttp
 s://momkult.hu/events/csanyi-sandor-szinhazi-estje-hogyan-ertsuk-felre-a-no
 ket-1015/
URL:https://momkult.hu/events/csanyi-sandor-szinhazi-estje-hogyan-ertsuk-felre-a-noket-1015/
END:VEVENT
END:VCALENDAR