BEGIN:VCALENDAR
VERSION:2.0
PRODID:-//eventon.com NONSGML v1.0//EN
CALSCALE:GREGORIAN
METHOD:PUBLISH
BEGIN:VEVENT
UID:69e94bd19b316
DTSTAMP:20260422T222937Z
DTSTART:20200216T103000Z
DTEND:20200216T111500Z
LOCATION:
SUMMARY:A manó aranybaltája
DESCRIPTION:Klasszikus bábok\,  klasszikus mesék. Domi bábszínháza\nht
 tps://momkult.hu/events/a-mano-aranybaltaja-0216/
URL:https://momkult.hu/events/a-mano-aranybaltaja-0216/
END:VEVENT
END:VCALENDAR