BEGIN:VCALENDAR
VERSION:2.0
PRODID:-//eventon.com NONSGML v1.0//EN
CALSCALE:GREGORIAN
METHOD:PUBLISH
BEGIN:VEVENT
UID:69e94d1c866cf
DTSTAMP:20260422T223508Z
DTSTART:20200215T180000Z
DTEND:20200215T190000Z
LOCATION:
SUMMARY:Ady és Dankó Pista | Kunfi Kuncz László estje
DESCRIPTION:Magyar Dankó Pista\,  áldjon meg az isten\,  Akinek a lelke e
 lvágyódik innen\,  Akit kerget\,  hajszol sóvár\,  beteg vágya\,  Akin
 ek a lelke magyar földön árva\,  Megmenti\,  megtartja a te magyar lelke
 d\,  A te nagy bánatod\,  a te nagy szerelmed\,  A te duhajságod\,  a te 
 kacagásod&#8230; Visszaadtál nekem egy vesztett világot!&#8230; Ady-vers
 ek\, [..]\nhttps://momkult.hu/events/ady-es-danko-pista-kunfi-kuncz-laszlo-
 estje/
URL:https://momkult.hu/events/ady-es-danko-pista-kunfi-kuncz-laszlo-estje/
END:VEVENT
END:VCALENDAR