BEGIN:VCALENDAR
VERSION:2.0
PRODID:-//eventon.com NONSGML v1.0//EN
CALSCALE:GREGORIAN
METHOD:PUBLISH
BEGIN:VEVENT
UID:69e915271f7c9
DTSTAMP:20260422T183623Z
DTSTART:20200403T180000Z
DTEND:20200403T200000Z
LOCATION:
SUMMARY:Zabolátlan lovaim
DESCRIPTION:A Kormány 46/2020. (III.16.) Korm. rendelete alapján a MOM Ku
 lturális Központ Nonprofit Kft tagintézményei\,  valamint az üzemeltet
 ésében álló telephelyek\,  mint közművelődési intézmények pillana
 tnyilag látogatási tilalom alatt állnak. A MOMkult Zabolátlan lovaim c
 . programnak terembérleti konstrukcióban helyszínt biztosít\,  a jegyek
 kel kapcsolatban intézkedési joga nincs. Jegyinformációk kapcsán az al
 ábbiakban közöljük a produkció közleményét:[..]\nhttps://momkult.hu
 /events/zabolatlan-lovaim/
URL:https://momkult.hu/events/zabolatlan-lovaim/
END:VEVENT
END:VCALENDAR