BEGIN:VCALENDAR
VERSION:2.0
PRODID:-//eventon.com NONSGML v1.0//EN
CALSCALE:GREGORIAN
METHOD:PUBLISH
BEGIN:VEVENT
UID:69e9718b124d8
DTSTAMP:20260423T011035Z
DTSTART:20200119T103000Z
DTEND:20200119T113000Z
LOCATION:
SUMMARY:A kis leopárd és a kis zsiráf barátsága | GyerekMOM
DESCRIPTION:Domi bábjátéka\nhttps://momkult.hu/events/a-kis-leopard-es-a
 -kis-zsiraf-baratsaga-gyerekmom/
URL:https://momkult.hu/events/a-kis-leopard-es-a-kis-zsiraf-baratsaga-gyerekmom/
END:VEVENT
END:VCALENDAR