BEGIN:VCALENDAR
VERSION:2.0
PRODID:-//eventon.com NONSGML v1.0//EN
CALSCALE:GREGORIAN
METHOD:PUBLISH
BEGIN:VEVENT
UID:69e5fa8287bee
DTSTAMP:20260420T100554Z
DTSTART:20200917T183000Z
DTEND:20200917T200000Z
LOCATION:
SUMMARY:Antal Gábor Trió feat. Szőke Szandra koncert
DESCRIPTION:Az előadás új időpontban\,  2020. 09. 17-én kerül megrend
 ezésre. (eredeti időpont: 2020. 04. 08.\,  pótelőadás: 2020. 09.17.) A
  trió 2016-ban alakult Budapesten. &#8216;Whirl&#8217; című lemezük &#
 8211; melyen nyolc saját kompozíció hallható &#8211; 2017 elején jelen
 t meg. Szerzeményeikben a változatos zenei stílusok\,  progresszív dall
 ami\,  harmóniai és ritmikai megoldásokkal vegyülnek és mindegyikben t
 etten[..]\nhttps://momkult.hu/events/antal-gabor-trio-koncert/
URL:https://momkult.hu/events/antal-gabor-trio-koncert/
END:VEVENT
END:VCALENDAR