BEGIN:VCALENDAR
VERSION:2.0
PRODID:-//eventon.com NONSGML v1.0//EN
CALSCALE:GREGORIAN
METHOD:PUBLISH
BEGIN:VEVENT
UID:69e88943c2d96
DTSTAMP:20260422T083931Z
DTSTART:20201030T183000Z
DTEND:20201030T203000Z
LOCATION:
SUMMARY:JÃ³zsef Attila szeÃ¡nsz
DESCRIPTION:Az elÅ‘adÃ¡s Ãºj idÅ‘pontban\,  2020. 10. 30 -Ã¡n kerÃ¼l megren
 dezÃ©sre. (eredeti idÅ‘pont: 2020. 04. 16.\,  pÃ³telÅ‘adÃ¡s: 2020. 10.30.) 
 Az elÅ‘adÃ¡s Ãºj idÅ‘pontban kerÃ¼l megtartÃ¡sra\,  az Ãºj idÅ‘pontra Ã©rvÃ
 ©nyesek lesznek a mÃ¡r megvÃ¡sÃ¡rolt jegyek. Amennyiben az Ãºj idÅ‘pont a v
 Ã¡sÃ¡rlÃ³ szÃ¡mÃ¡ra nem megfelelÅ‘\,  Ãºgy aztÂ szÃ­veskedjen jelezni\,  Ã©
 s vÃ¡laszban megadjuk az esetleges[..]\nhttps://momkult.hu/events/jozsef-at
 tila-szeansz/
URL:https://momkult.hu/events/jozsef-attila-szeansz/
END:VEVENT
END:VCALENDAR