BEGIN:VCALENDAR
VERSION:2.0
PRODID:-//eventon.com NONSGML v1.0//EN
CALSCALE:GREGORIAN
METHOD:PUBLISH
BEGIN:VEVENT
UID:69e8db15230d6
DTSTAMP:20260422T142837Z
DTSTART:20200831T180000Z
DTEND:20200831T203000Z
LOCATION:
SUMMARY:Az illúzió mesterei - 2020
DESCRIPTION:Az előadás új időpontban\,  2020. 08. 31 -én kerül megren
 dezésre. (eredeti időpont: 2020. 03. 18.\,  pótelőadás: 2020. 08.31.) 
 New York\,  Peking\,  Dubai\,  Las Vegas\,  Monte Carlo és Tokió után ú
 jra Budapesten Az illúzió mesterei! Világhírű bűvészek és az orszá
 g legjobb illuzionistái együtt\,  egy vadonatúj műsorban. Az előző é
 vekben rendezett\,  nagy[..]\nhttps://momkult.hu/events/az-illuzio-mesterei
 -2020-18/
URL:https://momkult.hu/events/az-illuzio-mesterei-2020-18/
END:VEVENT
END:VCALENDAR