BEGIN:VCALENDAR
VERSION:2.0
PRODID:-//eventon.com NONSGML v1.0//EN
CALSCALE:GREGORIAN
METHOD:PUBLISH
BEGIN:VEVENT
UID:69e94da2b4c04
DTSTAMP:20260422T223722Z
DTSTART:20200211T190000Z
DTEND:20200211T201500Z
LOCATION:
SUMMARY:LyukasÃ³ra klub
DESCRIPTION:ModerÃ¡tor: VÃ¡rady Szabolcs Kossuth-dÃ­jas kÃ¶ltÅ‘\,  mÅ±fordÃ
 ­tÃ³\,  szerkesztÅ‘ KÃ¶zremÅ±kÃ¶dÅ‘k: Lator LÃ¡szlÃ³ a Nemzet MÅ±vÃ©sze\,  
 Kossuth- dÃ­jas kÃ¶ltÅ‘\,  mÅ±fordÃ­tÃ³\,  esszÃ©ista MolnÃ¡r Krisztina Rit
 aÂ Â SzÃ©pÃ­rÃ³-dÃ­jasÂ kÃ¶ltÅ‘\,  Ã­rÃ³\,  mÃºzeumpedagÃ³gus SzegÅ‘ JÃ¡nos
  szÃ©pirodalmi szerkesztÅ‘\,  kulturÃ¡lis ÃºjsÃ¡gÃ­rÃ³ elsÅ‘ alkalommal sze
 repel a verses LyukasÃ³rÃ¡n KÅ‘rizs Imre Zelk ZoltÃ¡n -dÃ­jas kÃ¶ltÅ‘\,  Ã­
 rÃ³\,  klasszika-filolÃ³gus &nbsp;\nhttps://momkult.hu/events/lyukasora-klu
 b-12/
URL:https://momkult.hu/events/lyukasora-klub-12/
END:VEVENT
END:VCALENDAR