BEGIN:VCALENDAR
VERSION:2.0
PRODID:-//eventon.com NONSGML v1.0//EN
CALSCALE:GREGORIAN
METHOD:PUBLISH
BEGIN:VEVENT
UID:69e94e34d83db
DTSTAMP:20260422T223948Z
DTSTART:20200213T180000Z
DTEND:20200213T193000Z
LOCATION:
SUMMARY:Párhuzamos műfajok | Madách Imre: Az ember tragédiája című drámája és annak illusztrációi
DESCRIPTION:&#8222;Az Ember tragédiája a nemzeti klasszicizmus utolsó na
 gy állomása. Ami utána jött\, már csak annyi\,  mint mikor a repülőg
 ép\,  miután leszáll\,  még egy ideig tovább fut\,  mert hajtja a holt
  erő. A 19. század nagy és termékeny korszakát méltán\,  stílusosan
  és teljesen lezárja ez a filozófiai költemény; benne az irodalom lesz
 ámol\, [..]\nhttps://momkult.hu/events/parhuzamos-mufajok-madach-imre-az-e
 mber-tragediaja-cimu-dramaja-es-annak-illusztracioi/
URL:https://momkult.hu/events/parhuzamos-mufajok-madach-imre-az-ember-tragediaja-cimu-dramaja-es-annak-illusztracioi/
END:VEVENT
END:VCALENDAR