BEGIN:VCALENDAR
VERSION:2.0
PRODID:-//eventon.com NONSGML v1.0//EN
CALSCALE:GREGORIAN
METHOD:PUBLISH
BEGIN:VEVENT
UID:69e96000f3592
DTSTAMP:20260422T235544Z
DTSTART:20200131T193000Z
DTEND:20200131T213000Z
LOCATION:
SUMMARY:Luiza Zan & Sárik Péter | Hegyvidéki Smooth Jazz Klub
DESCRIPTION:Luiza Zan romániai énekesnő és Sárik Péter 2013 óta ját
 szik együtt duóban. Zenéjükben sokféle stílus keveredik: hagyományos
  és modern jazz\,  román és magyar népzene\,  valamint klasszikus zene.
  Legfőbb jellemzőjük a rendkívül energikus előadásmód és a sokszí
 nű repertoár\,  melyek nagyon hamar népszerűvé tették őket. Luiza Za
 n számtalan díj birtokosa. Hazai sikerei[..]\nhttps://momkult.hu/events/l
 uiza-zan-sarik-peter-hegyvideki-smooth-jazz-klub/
URL:https://momkult.hu/events/luiza-zan-sarik-peter-hegyvideki-smooth-jazz-klub/
END:VEVENT
END:VCALENDAR