BEGIN:VCALENDAR
VERSION:2.0
PRODID:-//eventon.com NONSGML v1.0//EN
CALSCALE:GREGORIAN
METHOD:PUBLISH
BEGIN:VEVENT
UID:69e9734f4dd6f
DTSTAMP:20260423T011807Z
DTSTART:20200123T100000Z
DTEND:20200123T110000Z
LOCATION:
SUMMARY:Beszélő Babakezek
DESCRIPTION:Pillants bele babád gondolataiba! Zentai Kata\,  a Beszélő B
 abakezek program vezetője 2008 óta tart babajelbeszéd-tanfolyamokat. „
 Segítem a szülőket\,  hogy boldog\,  kiegyensúlyozott kapcsolatot terem
 tsenek babáikkal\,  és közösen átéljék a beszéd előtti kommunikác
 ió csodáját. Mindez pozitívan hat a gyermekek szellemi és lelki fejlő
 désére.” – vallja Kata. Bárcsak tudnánk olvasni a babák gondolata
 iban! Bárcsak[..]\nhttps://momkult.hu/events/beszelo-babakezek-0123/
URL:https://momkult.hu/events/beszelo-babakezek-0123/
END:VEVENT
END:VCALENDAR