BEGIN:VCALENDAR
VERSION:2.0
PRODID:-//eventon.com NONSGML v1.0//EN
CALSCALE:GREGORIAN
METHOD:PUBLISH
BEGIN:VEVENT
UID:69e903723c684
DTSTAMP:20260422T172050Z
DTSTART:20200605T190000Z
DTEND:20200605T000000Z
LOCATION:
SUMMARY:ZurgÃ³
DESCRIPTION:A KormÃ¡ny 46/2020. (III.16.) Korm. rendelete alapjÃ¡n a MOM Ku
 lturÃ¡lis KÃ¶zpont Nonprofit Kft tagintÃ©zmÃ©nyei\,  valamint az Ã¼zemeltet
 Ã©sÃ©ben Ã¡llÃ³ telephelyek\,  mint kÃ¶zmÅ±velÅ‘dÃ©si intÃ©zmÃ©nyek pillana
 tnyilag lÃ¡togatÃ¡si tilalom alatt Ã¡llnak. Moldvai csÃ¡ngÃ³ nÃ©pzene\,  tÃ
 ¡nctanÃ­tÃ¡s\,  daltanÃ­tÃ¡s. Szeretettel vÃ¡rjuk rÃ©gi Ã©s Ãºj ismerÅ‘sein
 ket\,  barÃ¡tainkat\,  aÂ ZurgÃ³ EgyÃ¼ttes moldvai csÃ¡ngÃ³ magyar tÃ¡nchÃ¡
 zÃ¡ba. FelnÅ‘tt tÃ¡nchÃ¡z20:00-21:00 | tÃ¡nctanÃ­tÃ¡s Gyurka[..]\nhttps://m
 omkult.hu/events/zurgo-0619/
URL:https://momkult.hu/events/zurgo-0619/
END:VEVENT
END:VCALENDAR