BEGIN:VCALENDAR
VERSION:2.0
PRODID:-//eventon.com NONSGML v1.0//EN
CALSCALE:GREGORIAN
METHOD:PUBLISH
BEGIN:VEVENT
UID:69e914f34f472
DTSTAMP:20260422T183531Z
DTSTART:20200403T190000Z
DTEND:20200403T000000Z
LOCATION:
SUMMARY:Zurgó
DESCRIPTION:A Kormány 46/2020. (III.16.) Korm. rendelete alapján a MOM Ku
 lturális Központ Nonprofit Kft tagintézményei\,  valamint az üzemeltet
 ésében álló telephelyek\,  mint közművelődési intézmények pillana
 tnyilag látogatási tilalom alatt állnak. A Zurgó táncház elmarad. &#8
 212;&#8211; Moldvai csángó népzene\,  tánctanítás\,  daltanítás. Sz
 eretettel várjuk régi és új ismerőseinket\,  barátainkat\,  a Zurgó
  Együttes moldvai csángó magyar táncházába.[..]\nhttps://momkult.hu/e
 vents/zurgo-0403/
URL:https://momkult.hu/events/zurgo-0403/
END:VEVENT
END:VCALENDAR