BEGIN:VCALENDAR
VERSION:2.0
PRODID:-//eventon.com NONSGML v1.0//EN
CALSCALE:GREGORIAN
METHOD:PUBLISH
BEGIN:VEVENT
UID:69e94b9dca9e2
DTSTAMP:20260422T222845Z
DTSTART:20200214T200000Z
DTEND:20200214T010000Z
LOCATION:
SUMMARY:ZurgÃ³
DESCRIPTION:Moldvai csÃ¡ngÃ³ nÃ©pzene\,  tÃ¡nctanÃ­tÃ¡s\,  daltanÃ­tÃ¡s. Sz
 eretettel vÃ¡rjuk rÃ©gi Ã©s Ãºj ismerÅ‘seinket\,  barÃ¡tainkat\,  az idÃ©n 
 25 Ã©ves ZurgÃ³ EgyÃ¼ttes moldvai csÃ¡ngÃ³ magyar tÃ¡nchÃ¡zÃ¡ba. FelnÅ‘tt t
 Ã¡nchÃ¡z20:00-21:00 | tÃ¡nctanÃ­tÃ¡s Gyurka FÃ¡biÃ¡nnal 21:00-22:00 | tÃ¡nc
 hÃ¡z 22:00-22:20 | Ã©nektanulÃ¡s\,  kÃ¶zÃ¶s Ã©neklÃ©s SoÃ³s RÃ©ka vezetÃ©sÃ
 ©vel 22:20-22:30 | Nagy Bercel mesÃ©l 22:30-00:30 | tÃ¡nchÃ¡z\nhttps://momk
 ult.hu/events/zurgo-0214/
URL:https://momkult.hu/events/zurgo-0214/
END:VEVENT
END:VCALENDAR