BEGIN:VCALENDAR
VERSION:2.0
PRODID:-//eventon.com NONSGML v1.0//EN
CALSCALE:GREGORIAN
METHOD:PUBLISH
BEGIN:VEVENT
UID:69e88af5654ea
DTSTAMP:20260422T084645Z
DTSTART:20201110T140000Z
DTEND:20201110T150000Z
LOCATION:
SUMMARY:Dzsungelmese | Bóbita Bábszínház
DESCRIPTION:Az előadás a járványveszély miatt elmarad! &#8212;&#8212; 
 Kisoroszlán igazán jól érzi magát a szavannán\,  és ha azok a szemte
 len szurikáták ki nem csúfolnák\,  hogy ügyetlen és lassú\,  ha a pa
 pája nem biztatná\,  hogy mire kinő a sörénye\,  ő is gyors és ügye
 s lesz\,  tán eszébe sem jutna útra kelni. Azt[..]\nhttps://momkult.hu/e
 vents/momkult-gyerekszinhaz-kisiskolas-berlet-4/
URL:https://momkult.hu/events/momkult-gyerekszinhaz-kisiskolas-berlet-4/
END:VEVENT
END:VCALENDAR