BEGIN:VCALENDAR
VERSION:2.0
PRODID:-//eventon.com NONSGML v1.0//EN
CALSCALE:GREGORIAN
METHOD:PUBLISH
BEGIN:VEVENT
UID:69e89d1d4e0dc
DTSTAMP:20260422T100413Z
DTSTART:20201013T130000Z
DTEND:20201013T140000Z
LOCATION:
SUMMARY:A szépség és a szörnyeteg | Nektár Színház
DESCRIPTION:Az előadás a járványveszély miatt elmarad! &#8212;&#8212; 
 A Szépség és a Szörnyeteg című mesejátékunk eredete egy orosz népm
 ese\,  „A bíbor Rózsa”. A klasszikus mesében &#8211; mint ahogy a mi
  feldolgozásunkban is –a jó megküzd a rosszért! Nem a rosszal– sár
 kánnyal vagy egyéb kultikus hőssel–\,  hanem a rosszért\,  hogy ne le
 gyen[..]\nhttps://momkult.hu/events/momkult-gyerekszinhaz-kisiskolas-berlet
 -3/
URL:https://momkult.hu/events/momkult-gyerekszinhaz-kisiskolas-berlet-3/
END:VEVENT
END:VCALENDAR