BEGIN:VCALENDAR
VERSION:2.0
PRODID:-//eventon.com NONSGML v1.0//EN
CALSCALE:GREGORIAN
METHOD:PUBLISH
BEGIN:VEVENT
UID:69e88bf92e106
DTSTAMP:20260422T085105Z
DTSTART:20201110T100000Z
DTEND:20201110T110000Z
LOCATION:
SUMMARY:Dzsungelmese | Bóbita Bábszínház
DESCRIPTION:Az előadás a járványveszély miatt elmarad! &nbsp; Kisorosz
 lán igazán jól érzi magát a szavannán\,  és ha azok a szemtelen szur
 ikáták ki nem csúfolnák\,  hogy ügyetlen és lassú\,  ha a papája ne
 m biztatná\,  hogy mire kinő a sörénye\,  ő is gyors és ügyes lesz\,
   tán eszébe sem jutna útra kelni. Azt[..]\nhttps://momkult.hu/events/mo
 mkult-gyerekszinhaz-ovodas-berlet-3/
URL:https://momkult.hu/events/momkult-gyerekszinhaz-ovodas-berlet-3/
END:VEVENT
END:VCALENDAR