BEGIN:VCALENDAR
VERSION:2.0
PRODID:-//eventon.com NONSGML v1.0//EN
CALSCALE:GREGORIAN
METHOD:PUBLISH
BEGIN:VEVENT
UID:69e89cb547e2e
DTSTAMP:20260422T100229Z
DTSTART:20201013T090000Z
DTEND:20201013T100000Z
LOCATION:
SUMMARY:Az erdők könyve | Aranyszamár Bábszínház
DESCRIPTION:Az előadás a járványveszély miatt elmarad! &#8212;&#8212;&
 #8212;&#8212;&#8212;&#8212;&#8212;&#8212;&#8212;&#8212;&#8212;&#8212;&#8212
 ;&#8212;&#8212;&#8212;&#8212;&#8212;&#8212;&#8212;&#8212;&#8212;&#8212;&#82
 12;&#8212;&#8212;&#8212;&#8212;&#8212;&#8212;&#8212;&#8212;&#8212;&#8212;&#
 8212;&#8212;&#8212; Az tudtad\,  hogy a gombák nem csak úgy maguktól ter
 emnek\,  hanem a Gombacsináló Manó készíti őket? És azt hogy a virá
 gokban Tündérek laknak? És azon elgondolkodtál-e\,  hogy vajon a Vaddis
 znó honnan tudja\,  hogy az orrával kell túrnia a földet? És azon\,  h
 ogy a[..]\nhttps://momkult.hu/events/momkult-gyerekszinhaz-ovodas-berlet-2/
URL:https://momkult.hu/events/momkult-gyerekszinhaz-ovodas-berlet-2/
END:VEVENT
END:VCALENDAR